BEGIN:VCALENDAR
VERSION:2.0
PRODID:-//ChamberMaster//Event Calendar 2.0//EN
METHOD:PUBLISH
X-PUBLISHED-TTL:P3D
REFRESH-INTERVAL:P3D
CALSCALE:GREGORIAN
BEGIN:VEVENT
DTSTART:20260514T220000Z
DTEND:20260515T000000Z
X-MICROSOFT-CDO-ALLDAYEVENT:FALSE
SUMMARY:Golf like a Pro with the Young Professionals
DESCRIPTION:Join us for our Annual Golf Class designed exclusively for young professionals looking to refine their swing and expand their circle.\n\nHosted at beautiful City Park\, this hands-on session will be led by a seasoned golf professional who will guide us through the fundamentals of swinging and chipping   whether you're brand new to the game or simply looking to sharpen your skills. Expect practical instruction\, relaxed energy\, and plenty of encouragement.\n\nAfter class\, we'll transition into casual networking with fellow members and guests at the clubhouse. Your ticket includes two beverages\, giving you the perfect opportunity to connect\, unwind\, and continue the conversation in a laid-back setting.\n\nGolf clubs not included\, please provide your own.
X-ALT-DESC;FMTTYPE=text/html:<div><span style="font-size:1rem">Join us for our Annual&nbsp\;<span style="background-color:rgb(253\, 226\, 147)\; color:rgb(95\, 99\, 104)">Golf</span>&nbsp\;Class designed exclusively for young professionals looking to refine their swing and expand their circle.</span></div>\n\n<p>Hosted at beautiful City Park\, this hands-on session will be led by a seasoned golf professional&nbsp\;who will guide us through the fundamentals of swinging and chipping &mdash\; whether you&rsquo\;re brand new to the game or simply looking to sharpen your skills. Expect practical instruction\, relaxed energy\, and plenty of encouragement.</p>\n\n<p>After class\, we&rsquo\;ll transition into casual networking with fellow members and guests at the clubhouse. Your ticket includes two beverages\, giving you the perfect opportunity to connect\, unwind\, and continue the conversation in a laid-back setting.</p>\n\n<p><em><span style="background-color:rgb(253\, 226\, 147)\; color:rgb(95\, 99\, 104)">Golf</span>&nbsp\;clubs not included\, please provide your own.</em></p>\n
LOCATION:City Park Golf Course - 3181 E 23rd Ave\, Denver\, CO 80205
UID:e.281.6096
SEQUENCE:3
DTSTAMP:20260423T080537Z
URL:https://directory.cherrycreekchamber.org/events/details/golf-like-a-pro-with-the-young-professionals-6096
END:VEVENT

END:VCALENDAR
